BEGIN:VCALENDAR
VERSION:2.0
PRODID:-//Mission Locale Ouest Haut Var - ECPv6.9.0//NONSGML v1.0//EN
CALSCALE:GREGORIAN
METHOD:PUBLISH
X-WR-CALNAME:Mission Locale Ouest Haut Var
X-ORIGINAL-URL:https://www.missionlocale-ohv.fr
X-WR-CALDESC:Évènements pour Mission Locale Ouest Haut Var
REFRESH-INTERVAL;VALUE=DURATION:PT1H
X-Robots-Tag:noindex
X-PUBLISHED-TTL:PT1H
BEGIN:VTIMEZONE
TZID:Europe/Paris
BEGIN:DAYLIGHT
TZOFFSETFROM:+0100
TZOFFSETTO:+0200
TZNAME:CEST
DTSTART:20260329T010000
END:DAYLIGHT
BEGIN:STANDARD
TZOFFSETFROM:+0200
TZOFFSETTO:+0100
TZNAME:CET
DTSTART:20261025T010000
END:STANDARD
END:VTIMEZONE
BEGIN:VEVENT
DTSTART;TZID=Europe/Paris:20260423T093000
DTEND;TZID=Europe/Paris:20260423T160000
DTSTAMP:20260423T014741
CREATED:20220624T141328Z
LAST-MODIFIED:20260227T085737Z
UID:8857-1776936600-1776960000@www.missionlocale-ohv.fr
SUMMARY:Aujourd’hui tout est permis !
DESCRIPTION:Aujourd’hui tout est permis ! \nChaise musicale\, mime\, circuit à l’aveugle… \nUn atelier pas comme les autres\, viens vivre une expérience délirante en découvrant toutes les formes d’expression \nAtelier sur la journée : 9h30 – 12h30 et 14h – 16h \n 
URL:https://www.missionlocale-ohv.fr/event/evasion-en-mots-et-en-tempo-1-2/
LOCATION:Mission Locale de Brignoles\, Quartier le Plan\, Brignoles\, 83170\, France
CATEGORIES:Brignoles
END:VEVENT
END:VCALENDAR